BEGIN:VCALENDAR
VERSION:2.0
PRODID:-//Sonic Nation - ECPv6.15.20//NONSGML v1.0//EN
CALSCALE:GREGORIAN
METHOD:PUBLISH
X-ORIGINAL-URL:https://www.sonicnation.net
X-WR-CALDESC:Events for Sonic Nation
REFRESH-INTERVAL;VALUE=DURATION:PT1H
X-Robots-Tag:noindex
X-PUBLISHED-TTL:PT1H
BEGIN:VTIMEZONE
TZID:UTC
BEGIN:STANDARD
TZOFFSETFROM:+0000
TZOFFSETTO:+0000
TZNAME:UTC
DTSTART:20190101T000000
END:STANDARD
END:VTIMEZONE
BEGIN:VEVENT
DTSTART;TZID=UTC:20200304T200000
DTEND;TZID=UTC:20200304T230000
DTSTAMP:20260420T043030
CREATED:20200225T202137Z
LAST-MODIFIED:20200225T202137Z
UID:2033-1583352000-1583362800@www.sonicnation.net
SUMMARY:Brother Lee & The Leather Jackals at the Sinkhole\, March 4th.
DESCRIPTION:Brother Lee & The Leather Jackals\, Behold the Brave & Overnighter at the Sinkhole on March 4th. \nBrother Lee at the Sinkhole on March 4th.\n\nBrother Lee and the Leather Jackals is a St. Louis outfit of snakes that hiss and spit chords and chaos of the 60s-70s blues-infused psycho active rock and roll. \nBehold the Brave is a gritty rock group who write harmonious tunes with a dose of Southeastern swamp from Chattanooga\, Tennessee. \nOvernighter makes music in a basement for the pleasure of other basement’s\, basements. St. Louis\, MO. \nLive! at The Sinkhole\n7423 S Broadway\nSaint Louis\, MO 63111\nUnited States \nWednesday\, March 4th\n8pm // More details TBA \nhttps://www.facebook.com/events/123657622337370/
URL:https://www.sonicnation.net/event/brother-lee-the-leather-jackals-at-the-sinkhole-march-4th/
ATTACH;FMTTYPE=image/jpeg:https://www.sonicnation.net/wp-content/uploads/2020/02/CINCO-DE-MAYO-2019-Brother-Lee-KDHX-scaled.jpg
END:VEVENT
BEGIN:VEVENT
DTSTART;TZID=UTC:20200303T070000
DTEND;TZID=UTC:20200331T170000
DTSTAMP:20260420T043030
CREATED:20200303T233334Z
LAST-MODIFIED:20200304T030130Z
UID:2105-1583218800-1585674000@www.sonicnation.net
SUMMARY:Ticket To Rock: Special Ticket Pricing: Megadeth\, LOG\, KORN\, and More.
DESCRIPTION:Ticket To Rock \nExclusive Multi-Show Ticket Package Includes This Summer’s Biggest Rock Tours: \n\nMegadeth & Lamb of God – Saturday\, July 11th\nDisturbed – July 15th\nKORN & Faith No More – September 17th\nBreaking Benjamin – TBA\n\n  \nAt Hollywood Casino Amphitheatre St. Louis \n  \nTickets On Sale Now! \nTicket To Rock: Special Ticket Pricing.
URL:https://www.sonicnation.net/event/ticket-to-rock-special-ticket-pricing-megadeth-log-korn-and-more/
ATTACH;FMTTYPE=image/jpeg:https://www.sonicnation.net/wp-content/uploads/2020/03/LAMB-OF-GOD-FACEBOOK-6-e1583290783877.jpg
END:VEVENT
BEGIN:VEVENT
DTSTART;TZID=UTC:20200229T193000
DTEND;TZID=UTC:20200229T230000
DTSTAMP:20260420T043030
CREATED:20200224T065421Z
LAST-MODIFIED:20200224T074853Z
UID:2002-1583004600-1583017200@www.sonicnation.net
SUMMARY:Sisser\, Mussy Cluves and More\, 2.29\, At the Sinkhole.
DESCRIPTION:Sisser\, Mussy Cluves\, SUNWYRM\, and Cheapest Chimp at the Sinkhole on February 29th.  Just $5.00.
URL:https://www.sonicnation.net/event/sisser-mussy-cluves-and-more-2-29/
END:VEVENT
BEGIN:VEVENT
DTSTART;TZID=UTC:20200229T190000
DTEND;TZID=UTC:20200229T230000
DTSTAMP:20260420T043030
CREATED:20200218T004732Z
LAST-MODIFIED:20200218T005252Z
UID:1962-1583002800-1583017200@www.sonicnation.net
SUMMARY:Last Call: The Last Night at Fubar.
DESCRIPTION:THE LAST NIGHT\n\n\n\n\n\n\nSATURDAY\, FEBRUARY 29\nShow | 8pm // Doors | 7pm\n $10\n\n\n\n\n\n\n Fubar\n\n\n\nWith special guests TBA.\nTHIS IS AN ALL AGES SHOW. THIS SHOW IS AT FUBAR
URL:https://www.sonicnation.net/event/last-call-the-last-night-at-fubar/
ATTACH;FMTTYPE=image/jpeg:https://www.sonicnation.net/wp-content/uploads/2020/02/get.jpg
END:VEVENT
BEGIN:VEVENT
DTSTART;TZID=UTC:20200228T190000
DTEND;TZID=UTC:20200228T230000
DTSTAMP:20260420T043030
CREATED:20200224T190821Z
LAST-MODIFIED:20200224T190821Z
UID:2015-1582916400-1582930800@www.sonicnation.net
SUMMARY:2 Chainz\, Feb 28th at Pop's.
DESCRIPTION:2 Chainz\n\nHip-Hop/Rap\n\nFri | Feb 28 @ 8:00 pm \nDoors @ 7:00 pm \n\n\n$40.00 – $79.00
URL:https://www.sonicnation.net/event/2-chainz-feb-28th-at-pops/
END:VEVENT
BEGIN:VEVENT
DTSTART;TZID=UTC:20200227T190000
DTEND;TZID=UTC:20200227T220000
DTSTAMP:20260420T043030
CREATED:20200224T191608Z
LAST-MODIFIED:20200224T191608Z
UID:2018-1582830000-1582840800@www.sonicnation.net
SUMMARY:The Goddamn Gallows with the Maness Brothers\, The Gaslight.
DESCRIPTION:The Goddamn Gallows w/ The Maness Brothers February 27th at The Gaslight.
URL:https://www.sonicnation.net/event/the-goddamn-gallows-with-the-maness-brothers-the-gaslight/
END:VEVENT
BEGIN:VEVENT
DTSTART;TZID=UTC:20200225T080000
DTEND;TZID=UTC:20200225T170000
DTSTAMP:20260420T043030
CREATED:20200225T202941Z
LAST-MODIFIED:20200225T202941Z
UID:2036-1582617600-1582650000@www.sonicnation.net
SUMMARY:Jesus Christ Supercar at Schlafly Tap Room on 2/27.
DESCRIPTION:Jesus Christ Supercar at the Schlafly Tap Room this Thursday\, February 27th. Special guests North By North and O’Ivy. \nJesus Christ Supercar
URL:https://www.sonicnation.net/event/jesus-christ-supercar-at-schlafly-tap-room-on-2-27/
ATTACH;FMTTYPE=image/jpeg:https://www.sonicnation.net/wp-content/uploads/2020/02/JESUS-CHRIST-SUPERCAR-COLIN.jpg
END:VEVENT
BEGIN:VEVENT
DTSTART;TZID=UTC:20200215T190000
DTEND;TZID=UTC:20200215T230000
DTSTAMP:20260420T043030
CREATED:20200210T061435Z
LAST-MODIFIED:20200210T061617Z
UID:1941-1581793200-1581807600@www.sonicnation.net
SUMMARY:FUBAR FINAL SHOW 2008-2020
DESCRIPTION:FUBAR 2008-2020 FAREWELL SHOW\n\n\n\n\n\n\n\nSATURDAY\, FEBRUARY 15\nShow | 8pm // Doors | 7pm\n $8\n\n\n\n\n\n\n Fubar\n\n\n\n\nwith special guests ULTRAMAN\, FISTER\, SLOW DAMAGE\, THE DISAPPEARED. THIS IS AN ALL AGES SHOW.
URL:https://www.sonicnation.net/event/fubar-final-show-2008-2020/
LOCATION:Fubar\, St. louis\, MO\, United States
END:VEVENT
BEGIN:VEVENT
DTSTART;TZID=UTC:20200212T190000
DTEND;TZID=UTC:20200212T190000
DTSTAMP:20260420T043030
CREATED:20200130T072322Z
LAST-MODIFIED:20200205T034618Z
UID:1931-1581534000-1581534000@www.sonicnation.net
SUMMARY:Robert Randolph & The Family Band\, February 12th\, ORH.
DESCRIPTION:Mike Judy Presents\nRobert Randolph & The Family Band\nwith Buffalo Nichols\nFebruary 12th\, 2020\nOld Rock House\nDoors: 7:00 PM // Show: 8:00 PM\nADV: $30.00 // DOS: $35.00 \n**Tickets for this event CAN be purchased at the Old Rock House box office but will be CASH ONLY. \nRobert Randolph at the Old Rock House on 2.12\n 
URL:https://www.sonicnation.net/event/robert-randolph-the-family-band/
CATEGORIES:St. Louis Concert Calendar
END:VEVENT
BEGIN:VEVENT
DTSTART;TZID=UTC:20200207T190000
DTEND;TZID=UTC:20200207T190000
DTSTAMP:20260420T043030
CREATED:20200130T070518Z
LAST-MODIFIED:20200205T034449Z
UID:1929-1581102000-1581102000@www.sonicnation.net
SUMMARY:Miniature Tigers\, February 7th\, ORH
DESCRIPTION:Mike Judy Presents\nFriday\, February 7th\, 2020\nOld Rock House\nDoors: 7:00 PM // Show: 8:00 PM\nADV: $18.00 // DOS: $20.00 \n**Tickets for this event can not be purchased at the Old Rock House box office** \n  \nMiniature Tigers at the Old Rock House.
URL:https://www.sonicnation.net/event/miniature-tigers-at-the-old-rock-house-2-07/
END:VEVENT
END:VCALENDAR